BEGIN:VCALENDAR
VERSION:2.0
PRODID:-//Caméra Club Annecy//NONSGML kigkonsult.se iCalcreator 2.41.92//
CALSCALE:GREGORIAN
METHOD:PUBLISH
UID:31653233-6662-4662-b564-366433313062
X-WR-CALNAME:iCagenda
X-WR-CALDESC:Event Management Extension for Joomla!
X-WR-RELCALID:3E26604A-50F4-4449-8B3E-E4F4932D05B5
X-WR-TIMEZONE:UTC
BEGIN:VTIMEZONE
TZID:UTC
END:VTIMEZONE
BEGIN:VEVENT
UID:66396332-3864-4362-b233-373762386331
DTSTAMP:20260421T193819Z
CATEGORIES:ACV :Ateliers Cinéma Vidéo
CLASS:PUBLIC
DESCRIPTION;ALTREP="CID:<FFFF__=0ABBE548DFE235B58f9e8a93d@coffeebean.com>":
     Programme :\n\nRepérage à Veyrier du terrain de tennis et de la maison
  du musicien.\n\n \n \nLe groupe Fiction 'les 3 éléments' :\n Christian\, 
 Georges\, Nicole\, Robert (Pilote du projet)\n \n\n \n   \n \n \n \n 
DTSTART:20200514T100000Z
DTEND:20200514T100000Z
GEO:00;0
LOCATION:Veyrier
ORGANIZER:
SEQUENCE:1
SUMMARY:ACV Fiction les 3 éléments_repérage
TRANSP:OPAQUE
URL:https://sitecca.com/index.php/component/icagenda/100-acv-davinci-debuta
 nt-16
END:VEVENT
END:VCALENDAR
