BEGIN:VCALENDAR
VERSION:2.0
PRODID:-//Caméra Club Annecy//NONSGML kigkonsult.se iCalcreator 2.41.92//
CALSCALE:GREGORIAN
METHOD:PUBLISH
UID:66363339-3061-4361-b737-336231366338
X-WR-CALNAME:iCagenda
X-WR-CALDESC:Event Management Extension for Joomla!
X-WR-RELCALID:3E26604A-50F4-4449-8B3E-E4F4932D05B5
X-WR-TIMEZONE:UTC
BEGIN:VTIMEZONE
TZID:UTC
END:VTIMEZONE
BEGIN:VEVENT
UID:37326566-6266-4136-a561-396439373138
DTSTAMP:20260424T110347Z
CATEGORIES:ACV :Ateliers Cinéma Vidéo
CLASS:PUBLIC
DESCRIPTION;ALTREP="CID:<FFFF__=0ABBE548DFE235B58f9e8a93d@coffeebean.com>":
     Programme :\n\nVérification des connaissances acquises en niveau 1.\nR
 éponses aux difficultés rencontrées lors du premier montage.\nApprofondiss
 ement des fonctions des onglets : Media\, Montage\, Export\n\nEncore une b
 elle ambiance de travail. \n\n \n \n 
DTSTART:20200416T100000Z
DTEND:20200416T100000Z
GEO:00;0
LOCATION:Chacun chez soi
ORGANIZER:
SEQUENCE:1
SUMMARY:Vidéo-Conf_ACV Davinci 2
TRANSP:OPAQUE
URL:https://sitecca.com/index.php/liste-de-tous-les-evenements/92-acv-davin
 ci-debutant-8/2020-04-16-10-00
END:VEVENT
END:VCALENDAR
