BEGIN:VCALENDAR
VERSION:2.0
PRODID:-//Caméra Club Annecy//NONSGML kigkonsult.se iCalcreator 2.41.92//
CALSCALE:GREGORIAN
METHOD:PUBLISH
UID:35306462-3866-4333-b562-643633623332
X-WR-CALNAME:iCagenda
X-WR-CALDESC:Event Management Extension for Joomla!
X-WR-RELCALID:3E26604A-50F4-4449-8B3E-E4F4932D05B5
X-WR-TIMEZONE:UTC
BEGIN:VTIMEZONE
TZID:UTC
END:VTIMEZONE
BEGIN:VEVENT
UID:39323662-3839-4139-a162-346566646266
DTSTAMP:20260422T000713Z
CATEGORIES:Période de Fermeture
CLASS:PUBLIC
DESCRIPTION:
DTSTART:20200701T000000Z
DTEND:20200831T000000Z
GEO:00;0
LOCATION:
ORGANIZER:
SEQUENCE:1
SUMMARY:Fermeture Estivale Juil-Août.
TRANSP:OPAQUE
URL:https://sitecca.com/index.php/liste-fermetures/63-fermeture-estivale
END:VEVENT
END:VCALENDAR
